BEGIN:VCALENDAR
VERSION:2.0
PRODID:-//OmniMagnetCalendar//EN
BEGIN:VEVENT
DTSTAMP:20190625T195740Z
STATUS:CONFIRMED
UID:hcarmenia.clubs.harvard.edu132
DTSTART:20160101T192900Z
DTEND:20161231T192900Z
LOCATION:
SUMMARY:Elections of 2016 HCA President and Treasurer
DESCRIPTION:;lkjhgfds
BEGIN:VALARM
TRIGGER:-PT15M
ACTION:DISPLAY
END:VALARM
TRANSP:OPAQUE
END:VEVENT
END:VCALENDAR
