BEGIN:VCALENDAR
VERSION:2.0
PRODID:-//OmniMagnetCalendar//EN
BEGIN:VEVENT
DTSTAMP:20190625T195740Z
STATUS:CONFIRMED
UID:hcarmenia.clubs.harvard.edu123
DTSTART:20141009T190000Z
DTEND:20141009T220000Z
LOCATION:
SUMMARY:Dinner with Harvard Alumni visiting Armenia
DESCRIPTION:
BEGIN:VALARM
TRIGGER:-PT15M
ACTION:DISPLAY
END:VALARM
TRANSP:OPAQUE
END:VEVENT
END:VCALENDAR
