BEGIN:VCALENDAR
VERSION:2.0
PRODID:-//OmniMagnetCalendar//EN
BEGIN:VEVENT
DTSTAMP:20190625T195740Z
STATUS:CONFIRMED
UID:hcarmenia.clubs.harvard.edu122
DTSTART:20140619T190000Z
DTEND:20140619T210000Z
LOCATION:
SUMMARY:Bruce Craven Leadership Lecture with Central Bank of Armenia, AUA and HCA
DESCRIPTION:
BEGIN:VALARM
TRIGGER:-PT15M
ACTION:DISPLAY
END:VALARM
TRANSP:OPAQUE
END:VEVENT
END:VCALENDAR
