BEGIN:VCALENDAR
VERSION:2.0
PRODID:-//OmniMagnetCalendar//EN
BEGIN:VEVENT
DTSTAMP:20190625T195740Z
STATUS:CONFIRMED
UID:hcarmenia.clubs.harvard.edu117
DTSTART:20140123T010000Z
DTEND:20140124T010000Z
LOCATION:
SUMMARY:Meeting with World Bank Senior Economist for Armenia Ulrich Bartsch
DESCRIPTION:
BEGIN:VALARM
TRIGGER:-PT15M
ACTION:DISPLAY
END:VALARM
TRANSP:OPAQUE
END:VEVENT
END:VCALENDAR
