BEGIN:VCALENDAR
VERSION:2.0
PRODID:-//OmniMagnetCalendar//EN
BEGIN:VEVENT
DTSTAMP:20190625T195740Z
STATUS:CONFIRMED
UID:hcarmenia.clubs.harvard.edu112
DTSTART:20130808T000100Z
DTEND:20130813T000100Z
LOCATION:Eurasia Security Program, Yerevan, Armenia,
SUMMARY:Harvard Kennedy School of Government Representative in Yerevan
DESCRIPTION:
BEGIN:VALARM
TRIGGER:-PT15M
ACTION:DISPLAY
END:VALARM
TRANSP:OPAQUE
END:VEVENT
END:VCALENDAR
